BEGIN:VCALENDAR
VERSION:2.0
PRODID:-//Boyert&#039;s Greenhouse &amp; Farm - ECPv6.15.12.2//NONSGML v1.0//EN
CALSCALE:GREGORIAN
METHOD:PUBLISH
X-WR-CALNAME:Boyert&#039;s Greenhouse &amp; Farm
X-ORIGINAL-URL:https://boyerts.com
X-WR-CALDESC:Events for Boyert&#039;s Greenhouse &amp; Farm
REFRESH-INTERVAL;VALUE=DURATION:PT1H
X-Robots-Tag:noindex
X-PUBLISHED-TTL:PT1H
BEGIN:VTIMEZONE
TZID:America/New_York
BEGIN:DAYLIGHT
TZOFFSETFROM:-0500
TZOFFSETTO:-0400
TZNAME:EDT
DTSTART:20250309T070000
END:DAYLIGHT
BEGIN:STANDARD
TZOFFSETFROM:-0400
TZOFFSETTO:-0500
TZNAME:EST
DTSTART:20251102T060000
END:STANDARD
BEGIN:DAYLIGHT
TZOFFSETFROM:-0500
TZOFFSETTO:-0400
TZNAME:EDT
DTSTART:20260308T070000
END:DAYLIGHT
BEGIN:STANDARD
TZOFFSETFROM:-0400
TZOFFSETTO:-0500
TZNAME:EST
DTSTART:20261101T060000
END:STANDARD
BEGIN:DAYLIGHT
TZOFFSETFROM:-0500
TZOFFSETTO:-0400
TZNAME:EDT
DTSTART:20270314T070000
END:DAYLIGHT
BEGIN:STANDARD
TZOFFSETFROM:-0400
TZOFFSETTO:-0500
TZNAME:EST
DTSTART:20271107T060000
END:STANDARD
END:VTIMEZONE
BEGIN:VEVENT
DTSTART;TZID=America/New_York:20260422T090000
DTEND;TZID=America/New_York:20260422T183000
DTSTAMP:20260422T014505
CREATED:20250404T140028Z
LAST-MODIFIED:20260406T193445Z
UID:19573-1776848400-1776882600@boyerts.com
SUMMARY:Earth Day Celebration @ Boyert's!
DESCRIPTION:🌎 Celebrate Earth Day with Us at the Greenhouse! 🌱We’re giving away FREE tree saplings with any purchase (first 150 customers) — let’s grow something great together! We will have Norway Spruce\, Serbian Spruce\, Hybrid Poplar\, and Green Giant Arborvitaes (valued at $6-$7!). \n\n\n\n🌿 $6.99 Sweet Peat – perfect for prepping your soil🍎 20% off fruit trees & berries – shop early for the best pick before the weekend’s 30% off rush🌱 $1.29 Biotone packets – give your new trees the best start! \n\n\n\nLet’s plant\, grow\, and give back to the Earth 💚
URL:https://boyerts.com/event/earth-day-celebration-boyerts/
ATTACH;FMTTYPE=image/jpeg:https://boyerts.com/wp-content/uploads/2025/04/celebration.jpg
END:VEVENT
END:VCALENDAR